BEGIN:VCALENDAR
VERSION:2.0
PRODID:-//Youth Talk - ECPv6.10.1.1//NONSGML v1.0//EN
CALSCALE:GREGORIAN
METHOD:PUBLISH
X-ORIGINAL-URL:https://youthtalk.org.uk
X-WR-CALDESC:Events for Youth Talk
REFRESH-INTERVAL;VALUE=DURATION:PT1H
X-Robots-Tag:noindex
X-PUBLISHED-TTL:PT1H
BEGIN:VTIMEZONE
TZID:UTC
BEGIN:STANDARD
TZOFFSETFROM:+0000
TZOFFSETTO:+0000
TZNAME:UTC
DTSTART:20250101T000000
END:STANDARD
END:VTIMEZONE
BEGIN:VEVENT
DTSTART;TZID=UTC:20250613T193000
DTEND;TZID=UTC:20250613T233000
DTSTAMP:20260424T150513
CREATED:20250522T085947Z
LAST-MODIFIED:20250522T161011Z
UID:14133-1749843000-1749857400@youthtalk.org.uk
SUMMARY:Live Acoustic Music Night - The Inn on the Green
DESCRIPTION:Come along to The Inn on the Green in Harpenden for a night of live music.  Lots of fun\, a great atmosphere\, and raising funds for Youth Talk. \nIt’s an open mic night so if you want to guest please contact ben@benlefleming.com\, otherwise just head down to enjoy the evening of music!
URL:https://youthtalk.org.uk/event/live-acoustic-music-night-the-inn-on-the-green/
LOCATION:The Inn on the Green\, Harpenden\, AL5 2HU
CATEGORIES:Community Event
ATTACH;FMTTYPE=image/jpeg:https://youthtalk.org.uk/wp-content/uploads/2025/05/open-mic-night.jpg
END:VEVENT
BEGIN:VEVENT
DTSTART;TZID=UTC:20250627T180000
DTEND;TZID=UTC:20250627T220000
DTSTAMP:20260424T150513
CREATED:20250521T123044Z
LAST-MODIFIED:20250522T161917Z
UID:14111-1751047200-1751061600@youthtalk.org.uk
SUMMARY:The Maltings Summer Sounds
DESCRIPTION:We’re delighted to be be part of Maltings Summer Sounds event. \nLate night shopping\, live music\, food and drink stalls – we look forward to seeing you there!  We’ll be running the Prosecco Bar\, with all proceeds going to Youth Talk.
URL:https://youthtalk.org.uk/event/the-maltings-summer-sounds/
LOCATION:The Maltings\, St Albans\, St Albans\, AL1 3HL
CATEGORIES:Community Event
ATTACH;FMTTYPE=image/jpeg:https://youthtalk.org.uk/wp-content/uploads/2025/05/maltings-summer-sounds.jpg
END:VEVENT
BEGIN:VEVENT
DTSTART;TZID=UTC:20250628T100000
DTEND;TZID=UTC:20250628T130000
DTSTAMP:20260424T150513
CREATED:20250521T124209Z
LAST-MODIFIED:20250521T124209Z
UID:14116-1751104800-1751115600@youthtalk.org.uk
SUMMARY:The Midway Surgery Health and Wellbeing Morning
DESCRIPTION:We are joining other organisations and charities to share knowledge and information at the Health and Wellbeing Morning\, arranged by the Midway Surgery.
URL:https://youthtalk.org.uk/event/the-midway-surgery-health-and-wellbeing-morning/
LOCATION:St Albans United Reform Church\, Greenwood\, Watford Road\, \, Chiswell Green\, St Albans\, AL2 3HG
CATEGORIES:Community Event
ATTACH;FMTTYPE=image/jpeg:https://youthtalk.org.uk/wp-content/uploads/2025/05/Midway-Health-and-Wellbeing-Event.jpg
END:VEVENT
END:VCALENDAR