BEGIN:VCALENDAR
VERSION:2.0
PRODID:-//Youth Talk - ECPv6.10.1.1//NONSGML v1.0//EN
CALSCALE:GREGORIAN
METHOD:PUBLISH
X-WR-CALNAME:Youth Talk
X-ORIGINAL-URL:https://youthtalk.org.uk
X-WR-CALDESC:Events for Youth Talk
REFRESH-INTERVAL;VALUE=DURATION:PT1H
X-Robots-Tag:noindex
X-PUBLISHED-TTL:PT1H
BEGIN:VTIMEZONE
TZID:UTC
BEGIN:STANDARD
TZOFFSETFROM:+0000
TZOFFSETTO:+0000
TZNAME:UTC
DTSTART:20260101T000000
END:STANDARD
END:VTIMEZONE
BEGIN:VEVENT
DTSTART;TZID=UTC:20260228T190000
DTEND;TZID=UTC:20260228T223000
DTSTAMP:20260424T020256
CREATED:20260127T185641Z
LAST-MODIFIED:20260127T185641Z
UID:14760-1772305200-1772317800@youthtalk.org.uk
SUMMARY:Quiz Night at SARFC
DESCRIPTION:Join SARFC for a brilliant evening of trivia\, laughter and friendly competition. \nWhether your a season quizzer or just in for a laugh\, everyone is welcome! \n 28th February \n⏰️ 7pm \n️ 6️⃣ per team \n £60 \nRSVP to Fraser Morris at stalbans88@gmail.com as soon as possible if you would like to enter a team as spaces are limited.
URL:https://youthtalk.org.uk/event/quiz-night-at-sarfc/
LOCATION:St Albans RFC\, Oaklands Lane\, AL4 0HR
ATTACH;FMTTYPE=image/jpeg:https://youthtalk.org.uk/wp-content/uploads/2026/01/SARFC_Quiz_Night_Poster.jpg
END:VEVENT
END:VCALENDAR