BEGIN:VCALENDAR
VERSION:2.0
PRODID:-//Youth Talk - ECPv6.10.1.1//NONSGML v1.0//EN
CALSCALE:GREGORIAN
METHOD:PUBLISH
X-WR-CALNAME:Youth Talk
X-ORIGINAL-URL:https://youthtalk.org.uk
X-WR-CALDESC:Events for Youth Talk
REFRESH-INTERVAL;VALUE=DURATION:PT1H
X-Robots-Tag:noindex
X-PUBLISHED-TTL:PT1H
BEGIN:VTIMEZONE
TZID:UTC
BEGIN:STANDARD
TZOFFSETFROM:+0000
TZOFFSETTO:+0000
TZNAME:UTC
DTSTART:20260101T000000
END:STANDARD
END:VTIMEZONE
BEGIN:VEVENT
DTSTART;VALUE=DATE:20260213
DTEND;VALUE=DATE:20260223
DTSTAMP:20260424T041759
CREATED:20260106T115900Z
LAST-MODIFIED:20260106T115900Z
UID:14647-1770940800-1771804799@youthtalk.org.uk
SUMMARY:Trek Kilimanjaro 2026
DESCRIPTION:An amazing group of 24 courageous supporters aiming to summit Mount Kilimanjaro\, Africa’s tallest mountain\, in aid of Youth Talk.\nLook out for information in our newsletters\, and if you would like to sponsor the team\, please head over to https://www.justgiving.com/team/trek-kilimanjaro-2026
URL:https://youthtalk.org.uk/event/trek-kilimanjaro-2026/
ATTACH;FMTTYPE=image/jpeg:https://youthtalk.org.uk/wp-content/uploads/2026/01/Kili-General-image.jpg
END:VEVENT
END:VCALENDAR