BEGIN:VCALENDAR
VERSION:2.0
PRODID:-//Youth Talk - ECPv6.10.1.1//NONSGML v1.0//EN
CALSCALE:GREGORIAN
METHOD:PUBLISH
X-ORIGINAL-URL:https://youthtalk.org.uk
X-WR-CALDESC:Events for Youth Talk
REFRESH-INTERVAL;VALUE=DURATION:PT1H
X-Robots-Tag:noindex
X-PUBLISHED-TTL:PT1H
BEGIN:VTIMEZONE
TZID:UTC
BEGIN:STANDARD
TZOFFSETFROM:+0000
TZOFFSETTO:+0000
TZNAME:UTC
DTSTART:20260101T000000
END:STANDARD
END:VTIMEZONE
BEGIN:VEVENT
DTSTART;TZID=UTC:20260606T170000
DTEND;TZID=UTC:20260606T210000
DTSTAMP:20260423T230259
CREATED:20260330T094710Z
LAST-MODIFIED:20260330T094710Z
UID:14940-1780765200-1780779600@youthtalk.org.uk
SUMMARY:Charity Day at The Quadrant
DESCRIPTION:Thanks to the teams at Fade to Black and Bradford & Howley\, come and join us for a wonderful afternoon and evening at The Quadrant\, Marshalswick\, St Albans.
URL:https://youthtalk.org.uk/event/charity-day-at-the-quadrant/
CATEGORIES:Community Event
ATTACH;FMTTYPE=image/jpeg:https://youthtalk.org.uk/wp-content/uploads/2026/03/Quadrant-Charity-Day-2026.jpg
END:VEVENT
BEGIN:VEVENT
DTSTART;VALUE=DATE:20260614
DTEND;VALUE=DATE:20260615
DTSTAMP:20260423T230259
CREATED:20260202T133232Z
LAST-MODIFIED:20260219T141948Z
UID:14783-1781395200-1781481599@youthtalk.org.uk
SUMMARY:St Albans Half Marathon 2026
DESCRIPTION:Join Team Youth Talk at the St Albans Half Marathon! \nOn Sunday 14th June 2026\, Youth Talk will be taking part in the St Albans Half Marathon events.. One of our counsellors\, Katie is running the Half Marathon\, and our Operations Manager\, Kaz\, is walking the 5k — and they’d love your company! \nIf you’d like to run or walk alongside them and help raise vital funds for Youth Talk\, sign up here \nFind out more about the event here \nSponsor Katie and Kaz here \nLet’s get moving together for young people
URL:https://youthtalk.org.uk/event/st-albans-half-marathon-2026/
ATTACH;FMTTYPE=image/jpeg:https://youthtalk.org.uk/wp-content/uploads/2026/02/SAHM-for-Website.jpg
END:VEVENT
END:VCALENDAR